View In:
ArcGIS JavaScript
ArcGIS Online Map Viewer
ArcGIS Earth
Service Description: Rasterdaten/rasterdaten_GISADMIN_Dop20_20200624
Name: Rasterdaten/rasterdaten_GISADMIN_Dop20_20200624
Description:
Single Fused Map Cache: true
Tile Info:
- Height: 256
- Width: 256
- DPI: 96
-
Levels of Detail: 6
- Format: JPEG
- Compression Quality: 80.0
- LERC Error: NaN
- Origin: X: -5120900.0
Y: 9998100.0
- Spatial Reference: 25833
(25833)
LatestVCSWkid(0)
Storage Info:
- Storage Format: esriMapCacheStorageModeCompactV2
- Packet Size: 128
Extent:
XMin: 305999.99999999994
YMin: 5811999.999959021
XMax: 376000.0000040746
YMax: 5856000.000000001
Spatial Reference: 25833
(25833)
LatestVCSWkid(0)
Initial Extent:
XMin: 305999.99999999994
YMin: 5811999.999959021
XMax: 376000.0000040746
YMax: 5856000.000000001
Spatial Reference: 25833
(25833)
LatestVCSWkid(0)
Full Extent:
XMin: 305999.99999999994
YMin: 5811999.999959021
XMax: 376000.0000040746
YMax: 5856000.000000001
Spatial Reference: 25833
(25833)
LatestVCSWkid(0)
Pixel Size X: 0.20000000001164187
Pixel Size Y: 0.20000000018627298
Band Count: 3
Pixel Type: U8
RasterFunction Infos: {"rasterFunctionInfos": [{
"name": "None",
"description": "",
"help": ""
}]}
Mensuration Capabilities: Basic
Inspection Capabilities:
Has Histograms: true
Has Colormap: false
Has Multi Dimensions : false
Rendering Rule:
Min Scale: 0
Max Scale: 0
Copyright Text:
Service Data Type: esriImageServiceDataTypeRGB
Min Values: 0, 0, 0
Max Values: 255, 255, 255
Mean Values: 99.61009511441233, 107.60204326468208, 100.95794692763006
Standard Deviation Values: 40.42384526534857, 34.339078220068, 29.082393500546065
Object ID Field:
Fields:
None
Default Mosaic Method: Center
Allowed Mosaic Methods:
SortField:
SortValue: null
Mosaic Operator: First
Default Compression Quality: 75
Default Resampling Method: Bilinear
Max Record Count: null
Max Image Height: 4100
Max Image Width: 15000
Max Download Image Count: null
Max Mosaic Image Count: null
Allow Raster Function: true
Allow Copy: true
Allow Analysis: true
Allow Compute TiePoints: false
Supports Statistics: false
Supports Advanced Queries: false
Use StandardizedQueries: true
Raster Type Infos:
Name: Raster Dataset
Description: Unterstützt alle ArcGIS-Raster-Datasets
Help:
Has Raster Attribute Table: false
Edit Fields Info: null
Ownership Based AccessControl For Rasters: null
Child Resources:
Info
Histograms
Statistics
Key Properties
Legend
Raster Function Infos
Supported Operations:
Export Image
Identify
Measure
Compute Histograms
Compute Statistics Histograms
Get Samples
Compute Class Statistics
Query Boundary
Compute Pixel Location
Compute Angles
Validate
Project